BEGIN:VCALENDAR
VERSION:2.0
PRODID:-//pretix//BUA//
BEGIN:VEVENT
UID:pretix-BUA-DNS-st-2025-10-0@tickets.berlin-university-collections.de
DTSTART;VALUE=DATE:20251009
DTEND;VALUE=DATE:20251012
DESCRIPTION:Tickets: https://tickets.berlin-university-collections.de/BUA-D
 NS/st-2025-10/\nVeranstalter: Digitales Netzwerk Sammlungen der Berlin Uni
 versity Alliance
DTSTAMP:20260421T092012Z
SUMMARY:Anmeldung für die 16. Jahrestagung für wissenschaftliche Universi
 tätssammlungen 2025 in Berlin
END:VEVENT
END:VCALENDAR
